BEGIN:VCALENDAR
VERSION:2.0
PRODID:-//Caesar Chess - ECPv6.15.19//NONSGML v1.0//EN
CALSCALE:GREGORIAN
METHOD:PUBLISH
X-ORIGINAL-URL:https://caesarchess.com
X-WR-CALDESC:Events for Caesar Chess
REFRESH-INTERVAL;VALUE=DURATION:PT1H
X-Robots-Tag:noindex
X-PUBLISHED-TTL:PT1H
BEGIN:VTIMEZONE
TZID:America/Chicago
BEGIN:DAYLIGHT
TZOFFSETFROM:-0600
TZOFFSETTO:-0500
TZNAME:CDT
DTSTART:20220313T080000
END:DAYLIGHT
BEGIN:STANDARD
TZOFFSETFROM:-0500
TZOFFSETTO:-0600
TZNAME:CST
DTSTART:20221106T070000
END:STANDARD
BEGIN:DAYLIGHT
TZOFFSETFROM:-0600
TZOFFSETTO:-0500
TZNAME:CDT
DTSTART:20230312T080000
END:DAYLIGHT
BEGIN:STANDARD
TZOFFSETFROM:-0500
TZOFFSETTO:-0600
TZNAME:CST
DTSTART:20231105T070000
END:STANDARD
BEGIN:DAYLIGHT
TZOFFSETFROM:-0600
TZOFFSETTO:-0500
TZNAME:CDT
DTSTART:20240310T080000
END:DAYLIGHT
BEGIN:STANDARD
TZOFFSETFROM:-0500
TZOFFSETTO:-0600
TZNAME:CST
DTSTART:20241103T070000
END:STANDARD
END:VTIMEZONE
BEGIN:VEVENT
DTSTART;TZID=America/Chicago:20231104T090000
DTEND;TZID=America/Chicago:20231104T140000
DTSTAMP:20260419T174904
CREATED:20230921T200422Z
LAST-MODIFIED:20231107T223311Z
UID:6688-1699088400-1699106400@caesarchess.com
SUMMARY:Dancing Knights Scholastic 2023
DESCRIPTION:2026 Vulcan Chess Tournament				\n				\n				\n				\n					\n		\n			May 23\, 2026\n\n	\n\n	 \,   \n\n\n8:00 am\n\n		\n\n\n\n	\n	  -  \n\n8:00 pm\n\n\n\n	\n				\n				\n				\n				\n							\n			\n		\n						\n				\n				\n				\n					\n	\n	Venue			\n				\n	\n	The Church at Brook Hills\n	\n	\n\n3145 Brook Highland Pkwy\n	\n		\n		Birmingham\,\n\n	AL\n\n	35242\n\n	United States\n\n\n\n\n	+ Google Map \n\n\n	\n					\n						\n	 \n\n\n	\n	 \n\n\n\n	\n\n\n\n		\n	\n				\n				\n				\n				\n							\n			\n						\n		\n						\n				\n				\n				\n					Registration Cost				\n				\n				\n				\n					Late Entry Fee Date is on the flyer				\n				\n				\n				\n					\n$50 – $65 				\n				\n				\n				\n							\n			\n						\n		\n						\n				\n				\n				\n									\n					\n						\n									Register Below\n					\n					\n				\n								\n				\n					\n		\n				\n			\n						\n				\n												\n											\n															\n											FLYER\n										\n									\n				\n				\n				\n							\n			\n		\n						\n				\n					\n		\n					\n		\n				\n						\n					\n			\n						\n				\n							\n			\n						\n		\n						\n				\n				\n				\n							\n						\n				\n					\n		\n					\n		\n				\n						\n					\n			\n						\n				\n							\n\n                \n                        X/TwitterThis field is for validation purposes and should be left unchanged.Online FormName:(Required)\n                            \n                            \n                                                    \n                                                    First\n                                                \n                            \n                            \n                                                    \n                                                    Last\n                                                \n                            \n                        USCF Member ID #:(Required)Address:(Required)    \n                    \n                         \n                                        \n                                        Street Address\n                                    \n                                    \n                                    City\n                                 \n                                        AlabamaAlaskaAmerican SamoaArizonaArkansasCaliforniaColoradoConnecticutDelawareDistrict of ColumbiaFloridaGeorgiaGuamHawaiiIdahoIllinoisIndianaIowaKansasKentuckyLouisianaMaineMarylandMassachusettsMichiganMinnesotaMississippiMissouriMontanaNebraskaNevadaNew HampshireNew JerseyNew MexicoNew YorkNorth CarolinaNorth DakotaNorthern Mariana IslandsOhioOklahomaOregonPennsylvaniaPuerto RicoRhode IslandSouth CarolinaSouth DakotaTennesseeTexasUtahU.S. Virgin IslandsVermontVirginiaWashingtonWest VirginiaWisconsinWyomingArmed Forces AmericasArmed Forces EuropeArmed Forces Pacific\n                                        State\n                                      \n                                    \n                                    Zip\n                                \n                    \n                Section:(Required)\n			\n					\n					Premiere (Rated 1600+)\n			\n			\n					\n					Reserve (Rated U1600)\n			\n			\n					\n					AMATEUR (Rating U1200)\n			Email:(Required)\n                            \n                        Phone:(Required)Payment Method:(Required)\n			\n					\n					Paypal\n			\n			\n					\n					Venmo\n			\n			\n					\n					Other\n			VULCAN-23MAY2026\n          \n            \n            \n            \n            \n            \n            \n            \n            \n            \n            \n            \n            \n            \n        \n                        Δ \n                        \n\n						\n				\n					\n		\n				\n			\n						\n				\n					\n	\n				\n				\n				\n				\n							\n			\n						\n		\n						\n				\n				\n				\n							\n			\n		\n						\n				\n				\n				\n					PAY NOW				\n				\n				\n				\n							\n			\n		\n						\n				\n				\n				\n							\n			\n						\n		\n						\n				\n				\n				\n					UPCOMING TOURNAMENTS				\n				\n				\n				\n							\n			\n		\n						\n				\n				\n				\n					\n	\n			\n				May 2\, 2026 08:00\n				Alabaster\n			\n			2026 Summer Scholastic\n	\n			\n			\n		\n	\n	\n			\n				May 23\, 2026 08:00\n				Birmingham\n			\n			2026 Vulcan Scholastic\n	\n			\n			\n		\n	\n	\n			\n				May 23\, 2026 08:00\n				Birmingham\n			\n			2026 Vulcan Chess Tournament\n	\n			\n			\n		\n	\n	\n			\n				June 13\, 2026\n				Birmingham\n			\n			AlaGames Chess Tournament\n	\n			\n			\n		\n					\n				\n				\n				\n							\n			\n		\n						\n				\n				\n				\n									ADDITIONAL INFORMATION Email: Caesar Lawrence – director@CaesarChess.com 								\n				\n					\n		\n					\n		\n				\n						\n					\n			\n						\n				\n							\n			\n		\n						\n				\n				\n				\n					QR CodesScan for payments				\n				\n				\n				\n							\n			\n						\n		\n						\n				\n				\n						\n					\n			\n						\n				\n					PAYPAL				\n				\n				\n				\n																\n															\n															\n				\n				\n				\n									CaesarChess@gmail.com 								\n				\n					\n		\n				\n			\n						\n				\n					VENMO				\n				\n				\n				\n																\n															\n															\n				\n				\n				\n									@Caesar_Chess
URL:https://caesarchess.com/event/dancing-knights-scholastic-2023/
LOCATION:The Church at Brook Hills\, 3145 Brook Highland Pkwy\, Birmingham\, AL\, 35242\, United States
CATEGORIES:tournament
ATTACH;FMTTYPE=image/jpeg:https://caesarchess.com/wp-content/uploads/2022/07/canstockphoto94754587.jpg
ORGANIZER;CN="Caesar Chess":MAILTO:admin@CaesarChess.com
END:VEVENT
BEGIN:VEVENT
DTSTART;TZID=America/Chicago:20231104T090000
DTEND;TZID=America/Chicago:20231104T170000
DTSTAMP:20260419T174905
CREATED:20230921T200631Z
LAST-MODIFIED:20230921T201520Z
UID:6690-1699088400-1699117200@caesarchess.com
SUMMARY:BHAM Dual
DESCRIPTION:2026 Vulcan Chess Tournament				\n				\n				\n				\n					\n		\n			May 23\, 2026\n\n	\n\n	 \,   \n\n\n8:00 am\n\n		\n\n\n\n	\n	  -  \n\n8:00 pm\n\n\n\n	\n				\n				\n				\n				\n							\n			\n		\n						\n				\n				\n				\n					\n	\n	Venue			\n				\n	\n	The Church at Brook Hills\n	\n	\n\n3145 Brook Highland Pkwy\n	\n		\n		Birmingham\,\n\n	AL\n\n	35242\n\n	United States\n\n\n\n\n	+ Google Map \n\n\n	\n					\n						\n	 \n\n\n	\n	 \n\n\n\n	\n\n\n\n		\n	\n				\n				\n				\n				\n							\n			\n						\n		\n						\n				\n				\n				\n					Registration Cost				\n				\n				\n				\n					Late Entry Fee Date is on the flyer				\n				\n				\n				\n					\n$50 – $65 				\n				\n				\n				\n							\n			\n						\n		\n						\n				\n				\n				\n									\n					\n						\n									Register Below\n					\n					\n				\n								\n				\n					\n		\n				\n			\n						\n				\n												\n											\n															\n											FLYER\n										\n									\n				\n				\n				\n							\n			\n		\n						\n				\n					\n		\n					\n		\n				\n						\n					\n			\n						\n				\n							\n			\n						\n		\n						\n				\n				\n				\n							\n						\n				\n					\n		\n					\n		\n				\n						\n					\n			\n						\n				\n							\n                \n                        X/TwitterThis field is for validation purposes and should be left unchanged.Online FormName:(Required)\n                            \n                            \n                                                    \n                                                    First\n                                                \n                            \n                            \n                                                    \n                                                    Last\n                                                \n                            \n                        USCF Member ID #:(Required)Address:(Required)    \n                    \n                         \n                                        \n                                        Street Address\n                                    \n                                    \n                                    City\n                                 \n                                        AlabamaAlaskaAmerican SamoaArizonaArkansasCaliforniaColoradoConnecticutDelawareDistrict of ColumbiaFloridaGeorgiaGuamHawaiiIdahoIllinoisIndianaIowaKansasKentuckyLouisianaMaineMarylandMassachusettsMichiganMinnesotaMississippiMissouriMontanaNebraskaNevadaNew HampshireNew JerseyNew MexicoNew YorkNorth CarolinaNorth DakotaNorthern Mariana IslandsOhioOklahomaOregonPennsylvaniaPuerto RicoRhode IslandSouth CarolinaSouth DakotaTennesseeTexasUtahU.S. Virgin IslandsVermontVirginiaWashingtonWest VirginiaWisconsinWyomingArmed Forces AmericasArmed Forces EuropeArmed Forces Pacific\n                                        State\n                                      \n                                    \n                                    Zip\n                                \n                    \n                Section:(Required)\n			\n					\n					Premiere (Rated 1600+)\n			\n			\n					\n					Reserve (Rated U1600)\n			\n			\n					\n					AMATEUR (Rating U1200)\n			Email:(Required)\n                            \n                        Phone:(Required)Payment Method:(Required)\n			\n					\n					Paypal\n			\n			\n					\n					Venmo\n			\n			\n					\n					Other\n			VULCAN-23MAY2026\n          \n            \n            \n            \n            \n            \n            \n            \n            \n            \n            \n            \n            \n            \n        \n                        Δ \n                        \n\n						\n				\n					\n		\n				\n			\n						\n				\n					\n	\n				\n				\n				\n				\n							\n			\n						\n		\n						\n				\n				\n				\n							\n			\n		\n						\n				\n				\n				\n					PAY NOW				\n				\n				\n				\n							\n			\n		\n						\n				\n				\n				\n							\n			\n						\n		\n						\n				\n				\n				\n					UPCOMING TOURNAMENTS				\n				\n				\n				\n							\n			\n		\n						\n				\n				\n				\n					\n	\n			\n				May 2\, 2026 08:00\n				Alabaster\n			\n			2026 Summer Scholastic\n	\n			\n			\n		\n	\n	\n			\n				May 23\, 2026 08:00\n				Birmingham\n			\n			2026 Vulcan Scholastic\n	\n			\n			\n		\n	\n	\n			\n				May 23\, 2026 08:00\n				Birmingham\n			\n			2026 Vulcan Chess Tournament\n	\n			\n			\n		\n	\n	\n			\n				June 13\, 2026\n				Birmingham\n			\n			AlaGames Chess Tournament\n	\n			\n			\n		\n					\n				\n				\n				\n							\n			\n		\n						\n				\n				\n				\n									ADDITIONAL INFORMATION Email: Caesar Lawrence – director@CaesarChess.com 								\n				\n					\n		\n					\n		\n				\n						\n					\n			\n						\n				\n							\n			\n		\n						\n				\n				\n				\n					QR CodesScan for payments				\n				\n				\n				\n							\n			\n						\n		\n						\n				\n				\n						\n					\n			\n						\n				\n					PAYPAL				\n				\n				\n				\n																\n															\n															\n				\n				\n				\n									CaesarChess@gmail.com 								\n				\n					\n		\n				\n			\n						\n				\n					VENMO				\n				\n				\n				\n																\n															\n															\n				\n				\n				\n									@Caesar_Chess
URL:https://caesarchess.com/event/bham-dual/
LOCATION:The Church at Brook Hills\, 3145 Brook Highland Pkwy\, Birmingham\, AL\, 35242\, United States
CATEGORIES:tournament
ATTACH;FMTTYPE=image/jpeg:https://caesarchess.com/wp-content/uploads/2019/05/smart-boy-playing-chess-and-staring-at-the-chessbo-2021-09-02-16-30-53-utc.jpg
ORGANIZER;CN="Caesar Chess":MAILTO:admin@CaesarChess.com
END:VEVENT
BEGIN:VEVENT
DTSTART;TZID=America/Chicago:20231118T090000
DTEND;TZID=America/Chicago:20231118T180000
DTSTAMP:20260419T174905
CREATED:20230910T012951Z
LAST-MODIFIED:20230910T013159Z
UID:6676-1700298000-1700330400@caesarchess.com
SUMMARY:Dothan Open 2023
DESCRIPTION:2026 Vulcan Chess Tournament				\n				\n				\n				\n					\n		\n			May 23\, 2026\n\n	\n\n	 \,   \n\n\n8:00 am\n\n		\n\n\n\n	\n	  -  \n\n8:00 pm\n\n\n\n	\n				\n				\n				\n				\n							\n			\n		\n						\n				\n				\n				\n					\n	\n	Venue			\n				\n	\n	The Church at Brook Hills\n	\n	\n\n3145 Brook Highland Pkwy\n	\n		\n		Birmingham\,\n\n	AL\n\n	35242\n\n	United States\n\n\n\n\n	+ Google Map \n\n\n	\n					\n						\n	 \n\n\n	\n	 \n\n\n\n	\n\n\n\n		\n	\n				\n				\n				\n				\n							\n			\n						\n		\n						\n				\n				\n				\n					Registration Cost				\n				\n				\n				\n					Late Entry Fee Date is on the flyer				\n				\n				\n				\n					\n$50 – $65 				\n				\n				\n				\n							\n			\n						\n		\n						\n				\n				\n				\n									\n					\n						\n									Register Below\n					\n					\n				\n								\n				\n					\n		\n				\n			\n						\n				\n												\n											\n															\n											FLYER\n										\n									\n				\n				\n				\n							\n			\n		\n						\n				\n					\n		\n					\n		\n				\n						\n					\n			\n						\n				\n							\n			\n						\n		\n						\n				\n				\n				\n							\n						\n				\n					\n		\n					\n		\n				\n						\n					\n			\n						\n				\n							\n                \n                        PhoneThis field is for validation purposes and should be left unchanged.Online FormName:(Required)\n                            \n                            \n                                                    \n                                                    First\n                                                \n                            \n                            \n                                                    \n                                                    Last\n                                                \n                            \n                        USCF Member ID #:(Required)Address:(Required)    \n                    \n                         \n                                        \n                                        Street Address\n                                    \n                                    \n                                    City\n                                 \n                                        AlabamaAlaskaAmerican SamoaArizonaArkansasCaliforniaColoradoConnecticutDelawareDistrict of ColumbiaFloridaGeorgiaGuamHawaiiIdahoIllinoisIndianaIowaKansasKentuckyLouisianaMaineMarylandMassachusettsMichiganMinnesotaMississippiMissouriMontanaNebraskaNevadaNew HampshireNew JerseyNew MexicoNew YorkNorth CarolinaNorth DakotaNorthern Mariana IslandsOhioOklahomaOregonPennsylvaniaPuerto RicoRhode IslandSouth CarolinaSouth DakotaTennesseeTexasUtahU.S. Virgin IslandsVermontVirginiaWashingtonWest VirginiaWisconsinWyomingArmed Forces AmericasArmed Forces EuropeArmed Forces Pacific\n                                        State\n                                      \n                                    \n                                    Zip\n                                \n                    \n                Section:(Required)\n			\n					\n					Premiere (Rated 1600+)\n			\n			\n					\n					Reserve (Rated U1600)\n			\n			\n					\n					AMATEUR (Rating U1200)\n			Email:(Required)\n                            \n                        Phone:(Required)Payment Method:(Required)\n			\n					\n					Paypal\n			\n			\n					\n					Venmo\n			\n			\n					\n					Other\n			VULCAN-23MAY2026\n          \n            \n            \n            \n            \n            \n            \n            \n            \n            \n            \n            \n            \n            \n        \n                        Δ \n                        \n\n						\n				\n					\n		\n				\n			\n						\n				\n					\n	\n				\n				\n				\n				\n							\n			\n						\n		\n						\n				\n				\n				\n							\n			\n		\n						\n				\n				\n				\n					PAY NOW				\n				\n				\n				\n							\n			\n		\n						\n				\n				\n				\n							\n			\n						\n		\n						\n				\n				\n				\n					UPCOMING TOURNAMENTS				\n				\n				\n				\n							\n			\n		\n						\n				\n				\n				\n					\n	\n			\n				May 2\, 2026 08:00\n				Alabaster\n			\n			2026 Summer Scholastic\n	\n			\n			\n		\n	\n	\n			\n				May 23\, 2026 08:00\n				Birmingham\n			\n			2026 Vulcan Scholastic\n	\n			\n			\n		\n	\n	\n			\n				May 23\, 2026 08:00\n				Birmingham\n			\n			2026 Vulcan Chess Tournament\n	\n			\n			\n		\n	\n	\n			\n				June 13\, 2026\n				Birmingham\n			\n			AlaGames Chess Tournament\n	\n			\n			\n		\n					\n				\n				\n				\n							\n			\n		\n						\n				\n				\n				\n									ADDITIONAL INFORMATION Email: Caesar Lawrence – director@CaesarChess.com 								\n				\n					\n		\n					\n		\n				\n						\n					\n			\n						\n				\n							\n			\n		\n						\n				\n				\n				\n					QR CodesScan for payments				\n				\n				\n				\n							\n			\n						\n		\n						\n				\n				\n						\n					\n			\n						\n				\n					PAYPAL				\n				\n				\n				\n																\n															\n															\n				\n				\n				\n									CaesarChess@gmail.com 								\n				\n					\n		\n				\n			\n						\n				\n					VENMO				\n				\n				\n				\n																\n															\n															\n				\n				\n				\n									@Caesar_Chess
URL:https://caesarchess.com/event/dothan-open-2023/
LOCATION:Westgate Church of Christ\, 601 Westgate Pkwy\, Dothan\, AL\, 36303\, United States
CATEGORIES:tournament
ATTACH;FMTTYPE=image/jpeg:https://caesarchess.com/wp-content/uploads/2019/05/smart-boy-playing-chess-and-staring-at-the-chessbo-2021-09-02-16-30-53-utc.jpg
ORGANIZER;CN="Caesar Chess":MAILTO:admin@CaesarChess.com
END:VEVENT
END:VCALENDAR